BEGIN:VCALENDAR
VERSION:2.0
PRODID:-//LaKulTurM - ECPv6.15.17.1//NONSGML v1.0//EN
CALSCALE:GREGORIAN
METHOD:PUBLISH
X-WR-CALNAME:LaKulTurM
X-ORIGINAL-URL:https://lakulturm.de
X-WR-CALDESC:Veranstaltungen für LaKulTurM
REFRESH-INTERVAL;VALUE=DURATION:PT1H
X-Robots-Tag:noindex
X-PUBLISHED-TTL:PT1H
BEGIN:VTIMEZONE
TZID:Europe/Berlin
BEGIN:DAYLIGHT
TZOFFSETFROM:+0100
TZOFFSETTO:+0200
TZNAME:CEST
DTSTART:20200329T010000
END:DAYLIGHT
BEGIN:STANDARD
TZOFFSETFROM:+0200
TZOFFSETTO:+0100
TZNAME:CET
DTSTART:20201025T010000
END:STANDARD
BEGIN:DAYLIGHT
TZOFFSETFROM:+0100
TZOFFSETTO:+0200
TZNAME:CEST
DTSTART:20210328T010000
END:DAYLIGHT
BEGIN:STANDARD
TZOFFSETFROM:+0200
TZOFFSETTO:+0100
TZNAME:CET
DTSTART:20211031T010000
END:STANDARD
BEGIN:DAYLIGHT
TZOFFSETFROM:+0100
TZOFFSETTO:+0200
TZNAME:CEST
DTSTART:20220327T010000
END:DAYLIGHT
BEGIN:STANDARD
TZOFFSETFROM:+0200
TZOFFSETTO:+0100
TZNAME:CET
DTSTART:20221030T010000
END:STANDARD
END:VTIMEZONE
BEGIN:VEVENT
DTSTART;TZID=Europe/Berlin:20211106T180000
DTEND;TZID=Europe/Berlin:20211106T180000
DTSTAMP:20260419T175235
CREATED:20260314T000718Z
LAST-MODIFIED:20260314T005650Z
UID:1966-1636221600-1636221600@lakulturm.de
SUMMARY:Detlef Steffenhagen: Organ Goes Cinema
DESCRIPTION:Klassische Filmmusik auf der Orgel \nVon Bach (Toccata aus Disneys Phantasia) über Strauss (2001 Odysee im Weltall) bis Zimmer (Fluch der Karibik).
URL:https://lakulturm.de/event/detlef-steffenhagen-organ-goes-cinema/
ATTACH;FMTTYPE=image/png:https://lakulturm.de/wp-content/uploads/2026/03/Detlef-Steffenhagen-2021-1200x1200-6qFAZX.png
END:VEVENT
END:VCALENDAR