BEGIN:VCALENDAR
VERSION:2.0
PRODID:-//LaKulTurM - ECPv6.15.17.1//NONSGML v1.0//EN
CALSCALE:GREGORIAN
METHOD:PUBLISH
X-ORIGINAL-URL:https://lakulturm.de
X-WR-CALDESC:Veranstaltungen für LaKulTurM
REFRESH-INTERVAL;VALUE=DURATION:PT1H
X-Robots-Tag:noindex
X-PUBLISHED-TTL:PT1H
BEGIN:VTIMEZONE
TZID:Europe/Berlin
BEGIN:DAYLIGHT
TZOFFSETFROM:+0100
TZOFFSETTO:+0200
TZNAME:CEST
DTSTART:20190331T010000
END:DAYLIGHT
BEGIN:STANDARD
TZOFFSETFROM:+0200
TZOFFSETTO:+0100
TZNAME:CET
DTSTART:20191027T010000
END:STANDARD
BEGIN:DAYLIGHT
TZOFFSETFROM:+0100
TZOFFSETTO:+0200
TZNAME:CEST
DTSTART:20200329T010000
END:DAYLIGHT
BEGIN:STANDARD
TZOFFSETFROM:+0200
TZOFFSETTO:+0100
TZNAME:CET
DTSTART:20201025T010000
END:STANDARD
BEGIN:DAYLIGHT
TZOFFSETFROM:+0100
TZOFFSETTO:+0200
TZNAME:CEST
DTSTART:20210328T010000
END:DAYLIGHT
BEGIN:STANDARD
TZOFFSETFROM:+0200
TZOFFSETTO:+0100
TZNAME:CET
DTSTART:20211031T010000
END:STANDARD
END:VTIMEZONE
BEGIN:VEVENT
DTSTART;TZID=Europe/Berlin:20200216T170000
DTEND;TZID=Europe/Berlin:20200216T170000
DTSTAMP:20260424T170727
CREATED:20260314T000752Z
LAST-MODIFIED:20260314T004659Z
UID:1976-1581872400-1581872400@lakulturm.de
SUMMARY:Detlef Steffenhagen: Pomp and Circumstance – A very british organ concert
DESCRIPTION:Konzert bei KerzenscheinMit Videoprojektion des Künstlers im AltarraumNach dem „Orgelbolero“ im Jahr 2019 präsentiert der international tätige Konzertorganist Detlef Steffenhagen nun ein neues Programm. In Anlehnung an den berühmten Marsch von Edward Elgar wird der Künstler ein furioses musikalisches Feuerwerk entzünden.Unter dem Titel: „Pomp and Circumstance“ erklingen Werke britischer Meister und Kompositionen\, die England zum Thema machen.Darunter das berühmte „Carillon de Westminster“ von Louis Vierne und die „Rule Britannia“ Hymne von Augustine Arne.Ebenso Teile der Feuerwerksmusik von Händel\, welcher viele Jahre als königlich- britischer Hofkomponist in London wirkte.Während des Konzertes wird die Kirche nur durch Kerzen erleuchtet und das Spiel des Künstlers auf eine Leinwand im Altarraum übertragen\, sodass die seltene Möglichkeit besteht\, dem Organisten beim Spielen zuzusehen. \nDetlef Steffenhagen\,Jahrgang 1961\, begann seine musikalische Ausbildung im Alter von fünf Jahren.Er studierte bei Otto Jürgen Burba am Hoch’schen Konservatorium in Frankfurt und anschließend bei Gerd Zacher an der Folkwang Musikhochschule in Essen.Er war mehrfacher Preisträger des Wettbewerbs »Jugend musiziert« und konzertiert inzwischen hauptsächlich in Europa sowie Nord- und Südamerika.Über 500 Konzerte führten ihn in bedeutende Kirchen und Konzertsäle der Welt\, von der Leipziger Nicolaikirche über die Frankfurter Paulskirche bis zur Kathedrale von Riode Janeiro und das Fenway Park Stadium in Boston.
URL:https://lakulturm.de/event/detlef-steffenhagen-pomp-and-circumstance-a-very-british-organ-concert/
ATTACH;FMTTYPE=image/jpeg:https://lakulturm.de/wp-content/uploads/2019/10/Steffenhagen.jpg
END:VEVENT
END:VCALENDAR