BEGIN:VCALENDAR
VERSION:2.0
PRODID:-//LaKulTurM - ECPv6.15.17.1//NONSGML v1.0//EN
CALSCALE:GREGORIAN
METHOD:PUBLISH
X-ORIGINAL-URL:https://lakulturm.de
X-WR-CALDESC:Veranstaltungen für LaKulTurM
REFRESH-INTERVAL;VALUE=DURATION:PT1H
X-Robots-Tag:noindex
X-PUBLISHED-TTL:PT1H
BEGIN:VTIMEZONE
TZID:Europe/Berlin
BEGIN:DAYLIGHT
TZOFFSETFROM:+0100
TZOFFSETTO:+0200
TZNAME:CEST
DTSTART:20200329T010000
END:DAYLIGHT
BEGIN:STANDARD
TZOFFSETFROM:+0200
TZOFFSETTO:+0100
TZNAME:CET
DTSTART:20201025T010000
END:STANDARD
BEGIN:DAYLIGHT
TZOFFSETFROM:+0100
TZOFFSETTO:+0200
TZNAME:CEST
DTSTART:20210328T010000
END:DAYLIGHT
BEGIN:STANDARD
TZOFFSETFROM:+0200
TZOFFSETTO:+0100
TZNAME:CET
DTSTART:20211031T010000
END:STANDARD
BEGIN:DAYLIGHT
TZOFFSETFROM:+0100
TZOFFSETTO:+0200
TZNAME:CEST
DTSTART:20220327T010000
END:DAYLIGHT
BEGIN:STANDARD
TZOFFSETFROM:+0200
TZOFFSETTO:+0100
TZNAME:CET
DTSTART:20221030T010000
END:STANDARD
BEGIN:DAYLIGHT
TZOFFSETFROM:+0100
TZOFFSETTO:+0200
TZNAME:CEST
DTSTART:20230326T010000
END:DAYLIGHT
BEGIN:STANDARD
TZOFFSETFROM:+0200
TZOFFSETTO:+0100
TZNAME:CET
DTSTART:20231029T010000
END:STANDARD
END:VTIMEZONE
BEGIN:VEVENT
DTSTART;TZID=Europe/Berlin:20220313T000000
DTEND;TZID=Europe/Berlin:20220422T235959
DTSTAMP:20260423T121514
CREATED:20260314T000709Z
LAST-MODIFIED:20260314T004837Z
UID:1959-1647129600-1650671999@lakulturm.de
SUMMARY:Buntes Fest der Vielfalt mit Ausstellungseröffnung
DESCRIPTION:Du bist wie ich – nur so schön anders \nSo lautete das Motto des Malwettbewerbs\, der vom Kommunalen Integrationszentrum und dem Kinder- und Jugendring Bochum e. V. im letzten Jahr ausgerichtet wurde. 563 Kinder zwischen 8 und 12 Jahren haben sich hierfür mit dem Thema Vielfalt beschäftigt und bunte und eindrucksvolle Bilder zu Papier gebracht. Eine Jury hat die 10 ausdruckstärksten ausgewählt\, die nun in einer Wanderausstellung bewundert und betrachtet werden wollen. Anlässlich der Internationalen Wochen gegen Rassismus findet ein buntes Fest der Vielfalt statt. In diesem Rahmen wird die Wanderausstellung\, die in der Christuskirche ihren Anfang nimmt\, eröffnet. Dazu laden LaKulTurm\, das Kommunale Integrationszentrum und der Kinder- und Jugendring Bochum e. V. alle Kinder\, die am Malwettbewerb teilgenommen haben mit ihren Familien und Freund*innen sowie alle vielfaltbegeisterten Menschen recht herzlich ein. \nWeitere Termine der Wanderausstellung unter: www.jugendring-bochum.de
URL:https://lakulturm.de/event/buntes-fest-der-vielfalt-mit-ausstellungseroeffnung/
CATEGORIES:Kunstausstellung
ATTACH;FMTTYPE=image/png:https://lakulturm.de/wp-content/uploads/2022/08/Buntes-Fest-der-Vielfalt-2022-e1645203355177-s2TNyX.tmp_.png
END:VEVENT
BEGIN:VEVENT
DTSTART;TZID=Europe/Berlin:20211205T183000
DTEND;TZID=Europe/Berlin:20211205T183000
DTSTAMP:20260423T121514
CREATED:20260314T000717Z
LAST-MODIFIED:20260314T005833Z
UID:1964-1638729000-1638729000@lakulturm.de
SUMMARY:CHRIS HOPKINS MEETS THE THREE BLIND MICE
DESCRIPTION:Best of Swinging Classic Jazz \nfrom Louis Armstrong to Duke Ellington & morefeat. Jérôme Etcheberry (tp)\, Félix Hunot (g/voc)\, Sébastien Girardot (b) & Chris Hopkins (piano/alto sax) \nFür dieses außergewöhnliche Konzert präsentiert der international renommierte und mehrfach preisgekrönte Ausnahmemusiker Chris Hopkins einen umwerfenden Abend\, der mit einer Mischung aus Eleganz und Übermut\, Humor und Lebenslust aufwartet. Special guests sind diesmal die fantastischen „Three Blind Mice“ aus Frankreich. Hinter dem bescheiden anmutenden Namen verbergen sich in Wahrheit drei junge Löwen\, virtuose und charismatische Shooting-Stars einer neuen Musikergeneration. Mit Trompete\, Gitarre\, Kontrabass und Gesang kreieren sie einen eigenständigen\, energetisch swingenden Sound in der Tradition berühmter Jazzgrößen wie Louis Armstrong\, Duke Ellington oder Fats Waller und bilden gleichzeitig die wohl größte mini Big Band des Jazz. Jeder ein perfekter Solist\, brilliert er im ansteckenden Takt des Löwenrudels\, gekrönt von Chris Hopkins überragender Tastenkunst und vielen besonderen Überraschungsmomenten… So spielen sich Chris Hopkins & Friends lustvoll durch einen besonderen Jazzabend und swingen was das Zeug hält. Lässig\, mitreißend\, unterhaltsam. \nChris Hopkins\, der in Princeton/New Jersey geborene Wahl-Bochumer\, zählt mit seinem swingenden Stil längst zu den renommiertesten Musikern der internationalen Jazz-Szene. Als Leiter unterschiedlichster Ensembles bekannt\, räumte er zahlreiche Auszeichnungen wie den „Preis der Deutschen Schallplattenkritik“ und den „Prix de L’Académie du Jazz (Paris)“ ab sowie zuletzt den „Keeper Of The Flame“ für seine Verdienste um den Jazz in Europa und im Essener Grillo-Theater den „Jazz Pott“ als „Best Progressive Artist“ in einer Reihe mit Nils Wogram und Paul Kuhn. Unzählige Tourneen und Festivals und bis dato etwa 4000 Konzerte an der Seite von Größen wie Clark Terry\, Harry „Sweets“ Edison\, Bucky Pizzarelli\, Scott Hamilton\, Butch Miles oder Hazy Osterwald führten ihn durch ganz Europa\, in die USA\, nach Japan\, Australien und Neuseeland. Neben seiner Konzerttätigkeit ist Chris Hopkins seit 2005 Jazz-Dozent an der Hochschule für Musik Köln. \nTicketkauf online: https://HopkinsJazz.reservix.de/events (oder auch unter reservix.de und AdTicket.de)Ticketbestellung (Postversand) via Telefon und Infohotline: 01806-050400 (20cent/Festnetz-Anruf)Ticketkauf vor Ort bei einer VVK-Stelle (z.B. Bochum Ticket/Marketing am HBF) https://www.adticket.de/Vorverkaufsstellen
URL:https://lakulturm.de/event/chris-hopkins-meets-the-three-blind-mice/
ATTACH;FMTTYPE=image/jpeg:https://lakulturm.de/wp-content/uploads/2026/03/Chris-Hopkins-2021-scaled-hd6JCm.jpg
END:VEVENT
END:VCALENDAR